BEGIN:VCALENDAR
VERSION:2.0
PRODID:-//wp-events-plugin.com//6.6.3//EN
TZID:Europe/Rome
X-WR-TIMEZONE:Europe/Rome
BEGIN:VEVENT
UID:31@farmaciabolli.it
DTSTART;TZID=Europe/Rome:20250514T093000
DTEND;TZID=Europe/Rome:20250514T183000
DTSTAMP:20250430T162955Z
URL:https://www.farmaciabolli.it/eventi/giornata-nutrizionista-promopharma
 /
SUMMARY:GIORNATA NUTRIZIONISTA PROMOPHARMA
DESCRIPTION:Prima dell’estate desideri mantenere la linea sotto controllo
 ?\n\nIl 14 maggio presso la nostra farmacia sarà possibile avvalersi dei 
 consigli di una nutrizionista PromoPharma per migliorare la propria alimen
 tazione e lanciare un occhio alla prova costume.\n\nPer prenotare subito i
 l tuo appuntamento compila il form di contatto qui sotto!
ATTACH;FMTTYPE=image/jpeg:https://www.farmaciabolli.it/wp-content/uploads/
 2025/04/PROMOPHARMA.jpg
LOCATION:Farmacia Bolli\, Via dei Martiri dei Lager\, 48\, Perugia\, (PG)\,
  06128\, Umbria\, Italia
X-APPLE-STRUCTURED-LOCATION;VALUE=URI;X-ADDRESS=Via dei Martiri dei Lager\,
  48\, Perugia\, (PG)\, 06128\, Umbria\, Italia;X-APPLE-RADIUS=100;X-TITLE=
 Farmacia Bolli:geo:0,0
END:VEVENT
BEGIN:VTIMEZONE
TZID:Europe/Rome
X-LIC-LOCATION:Europe/Rome
BEGIN:DAYLIGHT
DTSTART:20250330T030000
TZOFFSETFROM:+0100
TZOFFSETTO:+0200
TZNAME:CEST
END:DAYLIGHT
END:VTIMEZONE
END:VCALENDAR