BEGIN:VCALENDAR
VERSION:2.0
PRODID:-//wp-events-plugin.com//6.6.3//EN
TZID:Europe/Rome
X-WR-TIMEZONE:Europe/Rome
BEGIN:VEVENT
UID:34@farmaciabolli.it
DTSTART;TZID=Europe/Rome:20250530T093000
DTEND;TZID=Europe/Rome:20250530T183000
DTSTAMP:20250502T082804Z
URL:https://www.farmaciabolli.it/eventi/giornata-la-roche-posay-e-vichy-4/
SUMMARY:GIORNATA LA ROCHE POSAY E VICHY
DESCRIPTION:Il 30 maggio\, La Roche-Posay &amp\; Vichy tornano nella nostra
  farmacia con una giornata speciale dedicata alle loro pregiatissime linee
  di skincare e cura della pelle!\n\nDurante la giornata sarà possibile av
 valersi dei consigli di una beauty specialist certificata per trovare le l
 inee e i prodotti adatti alla propria pelle e alle proprie esigenze!\n\nPr
 enota subito la tua consulenza al 075.500155 oppure prenotati tramite il n
 ostro form in basso.
ATTACH;FMTTYPE=image/jpeg:https://www.farmaciabolli.it/wp-content/uploads/
 2025/05/GIORNAT-ROCHE-POSAY-E-VICHY.jpg
LOCATION:Farmacia Bolli\, Via dei Martiri dei Lager\, 48\, Perugia\, (PG)\,
  06128\, Umbria\, Italia
X-APPLE-STRUCTURED-LOCATION;VALUE=URI;X-ADDRESS=Via dei Martiri dei Lager\,
  48\, Perugia\, (PG)\, 06128\, Umbria\, Italia;X-APPLE-RADIUS=100;X-TITLE=
 Farmacia Bolli:geo:0,0
END:VEVENT
BEGIN:VTIMEZONE
TZID:Europe/Rome
X-LIC-LOCATION:Europe/Rome
BEGIN:DAYLIGHT
DTSTART:20250330T030000
TZOFFSETFROM:+0100
TZOFFSETTO:+0200
TZNAME:CEST
END:DAYLIGHT
END:VTIMEZONE
END:VCALENDAR